BEGIN:VCALENDAR
VERSION:2.0
PRODID:-//Media - ECPv6.15.20//NONSGML v1.0//EN
CALSCALE:GREGORIAN
METHOD:PUBLISH
X-ORIGINAL-URL:https://www.yakimawa.gov/media
X-WR-CALDESC:Events for Media
REFRESH-INTERVAL;VALUE=DURATION:PT1H
X-Robots-Tag:noindex
X-PUBLISHED-TTL:PT1H
BEGIN:VTIMEZONE
TZID:America/Los_Angeles
BEGIN:DAYLIGHT
TZOFFSETFROM:-0800
TZOFFSETTO:-0700
TZNAME:PDT
DTSTART:20220313T100000
END:DAYLIGHT
BEGIN:STANDARD
TZOFFSETFROM:-0700
TZOFFSETTO:-0800
TZNAME:PST
DTSTART:20221106T090000
END:STANDARD
BEGIN:DAYLIGHT
TZOFFSETFROM:-0800
TZOFFSETTO:-0700
TZNAME:PDT
DTSTART:20230312T100000
END:DAYLIGHT
BEGIN:STANDARD
TZOFFSETFROM:-0700
TZOFFSETTO:-0800
TZNAME:PST
DTSTART:20231105T090000
END:STANDARD
BEGIN:DAYLIGHT
TZOFFSETFROM:-0800
TZOFFSETTO:-0700
TZNAME:PDT
DTSTART:20240310T100000
END:DAYLIGHT
BEGIN:STANDARD
TZOFFSETFROM:-0700
TZOFFSETTO:-0800
TZNAME:PST
DTSTART:20241103T090000
END:STANDARD
END:VTIMEZONE
BEGIN:VEVENT
DTSTART;TZID=America/Los_Angeles:20230605T153000
DTEND;TZID=America/Los_Angeles:20230605T163000
DTSTAMP:20260421T022211
CREATED:20230524T184651Z
LAST-MODIFIED:20230524T184651Z
UID:10001592-1685979000-1685982600@www.yakimawa.gov
SUMMARY:City of Yakima Civil Service Commission
DESCRIPTION:
URL:https://www.yakimawa.gov/media/event/city-of-yakima-civil-service-commission-5/
LOCATION:Yakima City Hall Council Chambers\, 129 N. 2nd Street\, Yakima\, 98901\, United States
END:VEVENT
BEGIN:VEVENT
DTSTART;TZID=America/Los_Angeles:20230606T173000
DTEND;TZID=America/Los_Angeles:20230606T183000
DTSTAMP:20260421T022211
CREATED:20230522T172545Z
LAST-MODIFIED:20230522T172545Z
UID:10001583-1686072600-1686076200@www.yakimawa.gov
SUMMARY:Yakima City Council
DESCRIPTION:
URL:https://www.yakimawa.gov/media/event/yakima-city-council-8/
LOCATION:Yakima City Hall Council Chambers-Zoom\, 129 N 2nd St\, Yakima\, 98901
GEO:46.6046217;-120.5050987
X-APPLE-STRUCTURED-LOCATION;VALUE=URI;X-ADDRESS=Yakima City Hall Council Chambers-Zoom 129 N 2nd St Yakima 98901;X-APPLE-RADIUS=500;X-TITLE=129 N 2nd St:geo:-120.5050987,46.6046217
END:VEVENT
BEGIN:VEVENT
DTSTART;TZID=America/Los_Angeles:20230607T153000
DTEND;TZID=America/Los_Angeles:20230607T163000
DTSTAMP:20260421T022211
CREATED:20230602T203718Z
LAST-MODIFIED:20230602T203718Z
UID:10001593-1686151800-1686155400@www.yakimawa.gov
SUMMARY:City of Yakima Arts Commission
DESCRIPTION:
URL:https://www.yakimawa.gov/media/event/city-of-yakima-arts-commission-2/
LOCATION:Yakima City Hall Council Chambers\, 129 N. 2nd Street\, Yakima\, 98901\, United States
END:VEVENT
BEGIN:VEVENT
DTSTART;TZID=America/Los_Angeles:20230607T153000
DTEND;TZID=America/Los_Angeles:20230607T163000
DTSTAMP:20260421T022211
CREATED:20230605T153034Z
LAST-MODIFIED:20230605T153034Z
UID:10001594-1686151800-1686155400@www.yakimawa.gov
SUMMARY:City of Yakima Arts Commission
DESCRIPTION:
URL:https://www.yakimawa.gov/media/event/city-of-yakima-arts-commission-3/
LOCATION:Yakima City Hall Council Chambers\, 129 N. 2nd Street\, Yakima\, 98901\, United States
END:VEVENT
BEGIN:VEVENT
DTSTART;TZID=America/Los_Angeles:20230608T140000
DTEND;TZID=America/Los_Angeles:20230608T150000
DTSTAMP:20260421T022211
CREATED:20230522T173136Z
LAST-MODIFIED:20230524T185239Z
UID:10001587-1686232800-1686236400@www.yakimawa.gov
SUMMARY:Yakima Regional Clean Air Agency
DESCRIPTION:https://www.yakimacleanair.org/
URL:https://www.yakimawa.gov/media/event/yakima-regional-clean-air-agency-5/
LOCATION:Yakima City Hall Council Chambers\, 129 N. 2nd Street\, Yakima\, 98901\, United States
END:VEVENT
BEGIN:VEVENT
DTSTART;TZID=America/Los_Angeles:20230612T173000
DTEND;TZID=America/Los_Angeles:20230612T183000
DTSTAMP:20260421T022211
CREATED:20230522T172830Z
LAST-MODIFIED:20230522T172830Z
UID:10001584-1686591000-1686594600@www.yakimawa.gov
SUMMARY:City of Yakima Community Integration Committee
DESCRIPTION:
URL:https://www.yakimawa.gov/media/event/city-of-yakima-community-integration-committee-4/
LOCATION:Yakima City Hall Council Chambers\, 129 N. 2nd Street\, Yakima\, 98901\, United States
END:VEVENT
BEGIN:VEVENT
DTSTART;TZID=America/Los_Angeles:20230613T160000
DTEND;TZID=America/Los_Angeles:20230613T183000
DTSTAMP:20260421T022211
CREATED:20230427T203320Z
LAST-MODIFIED:20230427T203320Z
UID:10001575-1686672000-1686681000@www.yakimawa.gov
SUMMARY:Yakima City Council Budget Study Session
DESCRIPTION:**Note** Study Sessions will be held at various locations through the City of Yakima until the second week in August. Please check ahead.
URL:https://www.yakimawa.gov/media/event/yakima-city-council-budget-study-session-4/
LOCATION:Washington Fruit Community Center\, 602 N 4th St\,\, Yakima\, 98901
END:VEVENT
BEGIN:VEVENT
DTSTART;TZID=America/Los_Angeles:20230614T100000
DTEND;TZID=America/Los_Angeles:20230614T113000
DTSTAMP:20260421T022211
CREATED:20230522T172926Z
LAST-MODIFIED:20230522T172926Z
UID:10001585-1686736800-1686742200@www.yakimawa.gov
SUMMARY:City of Yakima Bike and Pedestrian Advisory Committee
DESCRIPTION:
URL:https://www.yakimawa.gov/media/event/city-of-yakima-bike-and-pedestrian-advisory-committee-5/
LOCATION:Yakima City Hall Council Chambers\, 129 N. 2nd Street\, Yakima\, 98901\, United States
END:VEVENT
BEGIN:VEVENT
DTSTART;TZID=America/Los_Angeles:20230614T150000
DTEND;TZID=America/Los_Angeles:20230614T170000
DTSTAMP:20260421T022211
CREATED:20230522T173003Z
LAST-MODIFIED:20230614T205828Z
UID:10001586-1686754800-1686762000@www.yakimawa.gov
SUMMARY:**CANCELED** City of Yakima Planning Commission
DESCRIPTION:
URL:https://www.yakimawa.gov/media/event/city-of-yakima-planning-commission-10/
LOCATION:Yakima City Hall Council Chambers\, 129 N. 2nd Street\, Yakima\, 98901\, United States
END:VEVENT
BEGIN:VEVENT
DTSTART;TZID=America/Los_Angeles:20230620T173000
DTEND;TZID=America/Los_Angeles:20230620T190000
DTSTAMP:20260421T022211
CREATED:20230522T173215Z
LAST-MODIFIED:20230522T173215Z
UID:10001588-1687282200-1687287600@www.yakimawa.gov
SUMMARY:Yakima City Council Meeting
DESCRIPTION:
URL:https://www.yakimawa.gov/media/event/yakima-city-council-meeting-4/
LOCATION:Yakima City Hall Council Chambers\, 129 N. 2nd Street\, Yakima\, 98901\, United States
END:VEVENT
BEGIN:VEVENT
DTSTART;TZID=America/Los_Angeles:20230621T163000
DTEND;TZID=America/Los_Angeles:20230621T173000
DTSTAMP:20260421T022211
CREATED:20230522T173257Z
LAST-MODIFIED:20230522T173257Z
UID:10001589-1687365000-1687368600@www.yakimawa.gov
SUMMARY:Sustainable Yakima Committee
DESCRIPTION:
URL:https://www.yakimawa.gov/media/event/sustainable-yakima-committee-6/
LOCATION:Yakima City Hall Council Chambers\, 129 N. 2nd Street\, Yakima\, 98901\, United States
END:VEVENT
BEGIN:VEVENT
DTSTART;TZID=America/Los_Angeles:20230627T160000
DTEND;TZID=America/Los_Angeles:20230627T183000
DTSTAMP:20260421T022211
CREATED:20230427T203425Z
LAST-MODIFIED:20230427T203425Z
UID:10001576-1687881600-1687890600@www.yakimawa.gov
SUMMARY:Yakima City Council Budget Study Session
DESCRIPTION:**Note** Study Sessions will be held at various locations through the City of Yakima until the second week in August. Please check ahead.
URL:https://www.yakimawa.gov/media/event/yakima-city-council-budget-study-session-5/
LOCATION:Beauchamp Community Center\, 1211 S. 7th Street\, Yakima\, WA\, United States
GEO:46.5879521;-120.4923779
X-APPLE-STRUCTURED-LOCATION;VALUE=URI;X-ADDRESS=Beauchamp Community Center 1211 S. 7th Street Yakima WA United States;X-APPLE-RADIUS=500;X-TITLE=1211 S. 7th Street:geo:-120.4923779,46.5879521
END:VEVENT
BEGIN:VEVENT
DTSTART;TZID=America/Los_Angeles:20230628T150000
DTEND;TZID=America/Los_Angeles:20230628T170000
DTSTAMP:20260421T022211
CREATED:20230522T173333Z
LAST-MODIFIED:20230522T173333Z
UID:10001590-1687964400-1687971600@www.yakimawa.gov
SUMMARY:City of Yakima Planning Commission
DESCRIPTION:
URL:https://www.yakimawa.gov/media/event/city-of-yakima-planning-commission-11/
LOCATION:Yakima City Hall Council Chambers\, 129 N. 2nd Street\, Yakima\, 98901\, United States
END:VEVENT
BEGIN:VEVENT
DTSTART;TZID=America/Los_Angeles:20230628T173000
DTEND;TZID=America/Los_Angeles:20230628T183000
DTSTAMP:20260421T022211
CREATED:20230522T173424Z
LAST-MODIFIED:20230522T173424Z
UID:10001591-1687973400-1687977000@www.yakimawa.gov
SUMMARY:City of Yakima Historic Preservation Commission
DESCRIPTION:
URL:https://www.yakimawa.gov/media/event/city-of-yakima-historic-preservation-commission-5/
LOCATION:Yakima City Hall Council Chambers\, 129 N. 2nd Street\, Yakima\, 98901\, United States
END:VEVENT
END:VCALENDAR